BEGIN:VCALENDAR
VERSION:2.0
X-WR-CALNAME: DUNAJ & Jana Vébrová
PRODID:GIGPRESS 2.0 WORDPRESS PLUGIN
CALSCALE:GREGORIAN
X-WR-TIMEZONE:Etc/GMT
METHOD:PUBLISH
BEGIN:VTIMEZONE
TZID:GMT
BEGIN:STANDARD
DTSTART:20071028T010000
TZOFFSETTO:+0000
TZOFFSETFROM:+0000
END:STANDARD
END:VTIMEZONE
BEGIN:VEVENT
SUMMARY:DUNAJ & Jana Vébrová at Nová Paka - soukromá akce
DESCRIPTION:Notes: soukromá akce 
LOCATION:Nová Paka - soukromá akce\, Nová Paka\, CZ
UID:20260516T200000Z-200-rmusil@gmail.com
URL:https://dunajmusic.cz
DTSTART;VALUE=DATE-TIME;TZID=GMT:20260516T200000Z
DTEND;VALUE=DATE-TIME;TZID=GMT:20260516T200000Z
DTSTAMP:20260420T024626Z
END:VEVENT
BEGIN:VEVENT
SUMMARY:DUNAJ & Jana Vébrová at Kyjov
DESCRIPTION:
LOCATION:Kyjov\, Kyjov\, CZ
UID:20260522T200000Z-201-rmusil@gmail.com
URL:https://dunajmusic.cz
DTSTART;VALUE=DATE-TIME;TZID=GMT:20260522T200000Z
DTEND;VALUE=DATE-TIME;TZID=GMT:20260522T200000Z
DTSTAMP:20260420T024626Z
END:VEVENT
BEGIN:VEVENT
SUMMARY:DUNAJ & Jana Vébrová at PonavaFest
DESCRIPTION:
LOCATION:PonavaFest\, Brno\, CZ
UID:20260523T200000Z-202-rmusil@gmail.com
URL:https://dunajmusic.cz
DTSTART;VALUE=DATE-TIME;TZID=GMT:20260523T200000Z
DTEND;VALUE=DATE-TIME;TZID=GMT:20260523T200000Z
DTSTAMP:20260420T024626Z
END:VEVENT
BEGIN:VEVENT
SUMMARY:DUNAJ & Jana Vébrová at Útulek fest
DESCRIPTION:
LOCATION:Útulek fest\, Ustí nad Labem\, CZ
UID:20260606T200000Z-203-rmusil@gmail.com
URL:https://dunajmusic.cz
DTSTART;VALUE=DATE-TIME;TZID=GMT:20260606T200000Z
DTEND;VALUE=DATE-TIME;TZID=GMT:20260606T200000Z
DTSTAMP:20260420T024626Z
END:VEVENT
BEGIN:VEVENT
SUMMARY:DUNAJ & Jana Vébrová at Vlčí hora
DESCRIPTION:
LOCATION:Vlčí hora\, Vlčí hora\, CZ
UID:20260620T200000Z-204-rmusil@gmail.com
URL:https://dunajmusic.cz
DTSTART;VALUE=DATE-TIME;TZID=GMT:20260620T200000Z
DTEND;VALUE=DATE-TIME;TZID=GMT:20260620T200000Z
DTSTAMP:20260420T024626Z
END:VEVENT
BEGIN:VEVENT
SUMMARY:DUNAJ & Jana Vébrová at TIŠNOV
DESCRIPTION:
LOCATION:TIŠNOV\, TIŠNOV\, CZ
UID:20260709T200000Z-209-rmusil@gmail.com
URL:https://dunajmusic.cz
DTSTART;VALUE=DATE-TIME;TZID=GMT:20260709T200000Z
DTEND;VALUE=DATE-TIME;TZID=GMT:20260709T200000Z
DTSTAMP:20260420T024626Z
END:VEVENT
BEGIN:VEVENT
SUMMARY:DUNAJ & Jana Vébrová at Lípa - Petrkov
DESCRIPTION:
LOCATION:Lípa - Petrkov\, Petrkov 13\, CZ
UID:20260717T200000Z-221-rmusil@gmail.com
URL:https://dunajmusic.cz
DTSTART;VALUE=DATE-TIME;TZID=GMT:20260717T200000Z
DTEND;VALUE=DATE-TIME;TZID=GMT:20260717T200000Z
DTSTAMP:20260420T024626Z
END:VEVENT
BEGIN:VEVENT
SUMMARY:DUNAJ & Jana Vébrová at Litomyšl
DESCRIPTION:
LOCATION:Litomyšl\, Litomyšl\, CZ
UID:20260730T200000Z-210-rmusil@gmail.com
URL:https://dunajmusic.cz
DTSTART;VALUE=DATE-TIME;TZID=GMT:20260730T200000Z
DTEND;VALUE=DATE-TIME;TZID=GMT:20260730T200000Z
DTSTAMP:20260420T024626Z
END:VEVENT
BEGIN:VEVENT
SUMMARY:DUNAJ & Jana Vébrová at FESTIVÁLEK POD OŘECHEM
DESCRIPTION:
LOCATION:FESTIVÁLEK POD OŘECHEM\, Korycany\, CZ
UID:20260801T200000Z-211-rmusil@gmail.com
URL:https://dunajmusic.cz
DTSTART;VALUE=DATE-TIME;TZID=GMT:20260801T200000Z
DTEND;VALUE=DATE-TIME;TZID=GMT:20260801T200000Z
DTSTAMP:20260420T024626Z
END:VEVENT
BEGIN:VEVENT
SUMMARY:DUNAJ & Jana Vébrová at Periferie Ostrava
DESCRIPTION:
LOCATION:Periferie Ostrava\, Ostrava\, CZ
UID:20260808T200000Z-205-rmusil@gmail.com
URL:https://dunajmusic.cz
DTSTART;VALUE=DATE-TIME;TZID=GMT:20260808T200000Z
DTEND;VALUE=DATE-TIME;TZID=GMT:20260808T200000Z
DTSTAMP:20260420T024626Z
END:VEVENT
BEGIN:VEVENT
SUMMARY:DUNAJ & Jana Vébrová at Rymařov
DESCRIPTION:
LOCATION:Rymařov\, Rymařov\, CZ
UID:20260814T200000Z-218-rmusil@gmail.com
URL:https://dunajmusic.cz
DTSTART;VALUE=DATE-TIME;TZID=GMT:20260814T200000Z
DTEND;VALUE=DATE-TIME;TZID=GMT:20260814T200000Z
DTSTAMP:20260420T024626Z
END:VEVENT
BEGIN:VEVENT
SUMMARY:DUNAJ & Jana Vébrová at Betlémská beseda
DESCRIPTION:
LOCATION:Betlémská beseda\, Praha\, CZ
UID:20260827T200000Z-214-rmusil@gmail.com
URL:https://dunajmusic.cz
DTSTART;VALUE=DATE-TIME;TZID=GMT:20260827T200000Z
DTEND;VALUE=DATE-TIME;TZID=GMT:20260827T200000Z
DTSTAMP:20260420T024626Z
END:VEVENT
BEGIN:VEVENT
SUMMARY:DUNAJ & Jana Vébrová at MikuLove
DESCRIPTION:
LOCATION:MikuLove\, Mikulov\, CZ
UID:20260829T200000Z-213-rmusil@gmail.com
URL:https://dunajmusic.cz
DTSTART;VALUE=DATE-TIME;TZID=GMT:20260829T200000Z
DTEND;VALUE=DATE-TIME;TZID=GMT:20260829T200000Z
DTSTAMP:20260420T024626Z
END:VEVENT
BEGIN:VEVENT
SUMMARY:DUNAJ & Jana Vébrová at Tančírna v Račím údolí
DESCRIPTION:
LOCATION:Tančírna v Račím údolí\, Javorník\, CZ
UID:20261004T200000Z-206-rmusil@gmail.com
URL:https://dunajmusic.cz
DTSTART;VALUE=DATE-TIME;TZID=GMT:20261004T200000Z
DTEND;VALUE=DATE-TIME;TZID=GMT:20261004T200000Z
DTSTAMP:20260420T024626Z
END:VEVENT
BEGIN:VEVENT
SUMMARY:DUNAJ & Jana Vébrová at DKO
DESCRIPTION:
LOCATION:DKO\, Jihlava\, CZ
UID:20261015T190000Z-207-rmusil@gmail.com
URL:https://dunajmusic.cz
DTSTART;VALUE=DATE-TIME;TZID=GMT:20261015T190000Z
DTEND;VALUE=DATE-TIME;TZID=GMT:20261015T190000Z
DTSTAMP:20260420T024626Z
END:VEVENT
BEGIN:VEVENT
SUMMARY:DUNAJ & Jana Vébrová at Fléda Club
DESCRIPTION:
LOCATION:Fléda Club\, Brno\, CZ
UID:20261110T200000Z-216-rmusil@gmail.com
URL:https://dunajmusic.cz
DTSTART;VALUE=DATE-TIME;TZID=GMT:20261110T200000Z
DTEND;VALUE=DATE-TIME;TZID=GMT:20261110T200000Z
DTSTAMP:20260420T024626Z
END:VEVENT
BEGIN:VEVENT
SUMMARY:DUNAJ & Jana Vébrová at Bratislava
DESCRIPTION:
LOCATION:Bratislava\, Bratislava\, CZ
UID:20261113T200000Z-219-rmusil@gmail.com
URL:https://dunajmusic.cz
DTSTART;VALUE=DATE-TIME;TZID=GMT:20261113T200000Z
DTEND;VALUE=DATE-TIME;TZID=GMT:20261113T200000Z
DTSTAMP:20260420T024626Z
END:VEVENT
BEGIN:VEVENT
SUMMARY:DUNAJ & Jana Vébrová at Koncert svobody
DESCRIPTION:
LOCATION:Koncert svobody\, Náměstí Míru\, Zlín\, CZ
UID:20261117T200000Z-217-rmusil@gmail.com
URL:https://dunajmusic.cz
DTSTART;VALUE=DATE-TIME;TZID=GMT:20261117T200000Z
DTEND;VALUE=DATE-TIME;TZID=GMT:20261117T200000Z
DTSTAMP:20260420T024626Z
END:VEVENT
BEGIN:VEVENT
SUMMARY:DUNAJ & Jana Vébrová at Palác Akropolis
DESCRIPTION:
LOCATION:Palác Akropolis\, Kubelíkova 1548/27\, Praha 3\, CZ
UID:20261210T200000Z-208-rmusil@gmail.com
URL:https://dunajmusic.cz
DTSTART;VALUE=DATE-TIME;TZID=GMT:20261210T200000Z
DTEND;VALUE=DATE-TIME;TZID=GMT:20261210T200000Z
DTSTAMP:20260420T024626Z
END:VEVENT
BEGIN:VEVENT
SUMMARY:DUNAJ & Jana Vébrová at Fabrika Doubice
DESCRIPTION:
LOCATION:Fabrika Doubice\, Doubice 174\,\, Doubice\, CZ
UID:20261211T200000Z-199-rmusil@gmail.com
URL:https://dunajmusic.cz
DTSTART;VALUE=DATE-TIME;TZID=GMT:20261211T200000Z
DTEND;VALUE=DATE-TIME;TZID=GMT:20261211T200000Z
DTSTAMP:20260420T024626Z
END:VEVENT
END:VCALENDAR