BEGIN:VCALENDAR
VERSION:2.0
PRODID:GIGPRESS 2.0 WORDPRESS PLUGIN
CALSCALE:GREGORIAN
X-WR-TIMEZONE:Etc/GMT
METHOD:PUBLISH
BEGIN:VTIMEZONE
TZID:GMT
BEGIN:STANDARD
DTSTART:20071028T010000
TZOFFSETTO:+0000
TZOFFSETFROM:+0000
END:STANDARD
END:VTIMEZONE
BEGIN:VEVENT
SUMMARY:DUNAJ & Jana Vébrová at Nová Paka - soukromá akce
DESCRIPTION:Notes: soukromá akce 
LOCATION:Nová Paka - soukromá akce\, Nová Paka\, CZ
UID:20260516T200000Z-200-rmusil@gmail.com
URL:https://dunajmusic.cz
DTSTART;VALUE=DATE-TIME;TZID=GMT:20260516T200000Z
DTEND;VALUE=DATE-TIME;TZID=GMT:20260516T200000Z
DTSTAMP:20260420T010240Z
END:VEVENT
END:VCALENDAR