BEGIN:VCALENDAR
VERSION:2.0
PRODID:GIGPRESS 2.0 WORDPRESS PLUGIN
CALSCALE:GREGORIAN
X-WR-TIMEZONE:Etc/GMT
METHOD:PUBLISH
BEGIN:VTIMEZONE
TZID:GMT
BEGIN:STANDARD
DTSTART:20071028T010000
TZOFFSETTO:+0000
TZOFFSETFROM:+0000
END:STANDARD
END:VTIMEZONE
BEGIN:VEVENT
SUMMARY:DUNAJ & Jana Vébrová at Tančírna v Račím údolí
DESCRIPTION:
LOCATION:Tančírna v Račím údolí\, Javorník\, CZ
UID:20261004T200000Z-206-rmusil@gmail.com
URL:https://dunajmusic.cz
DTSTART;VALUE=DATE-TIME;TZID=GMT:20261004T200000Z
DTEND;VALUE=DATE-TIME;TZID=GMT:20261004T200000Z
DTSTAMP:20260420T010315Z
END:VEVENT
END:VCALENDAR